BEGIN:VCALENDAR
VERSION:2.0
PRODID:-//pretix//Happylab_Tickets//
BEGIN:VEVENT
UID:pretix-happylab.wien-sommercamp-3078@tickets.happylab.at
DTSTART;VALUE=DATE:20260713
DTEND;VALUE=DATE:20260718
DESCRIPTION:Tickets: https://tickets.happylab.at/happylab.wien/sommercamp/3
 078/\nVeranstalter: Happylab Wien
DTSTAMP:20260421T123001Z
LOCATION:Happylab Wien\, Schönngasse 15 - 17\, 1020 Wien
SUMMARY:Sommercamp: Technik & Kreativität im Happylab
END:VEVENT
END:VCALENDAR
