BEGIN:VCALENDAR
VERSION:2.0
PRODID:-//pretix//Happylab_Tickets//
BEGIN:VTIMEZONE
TZID:Europe/Vienna
BEGIN:STANDARD
DTSTART:20001029T040000
RRULE:FREQ=YEARLY;BYDAY=-1SU;BYMONTH=10
TZNAME:CET
TZOFFSETFROM:+0200
TZOFFSETTO:+0100
END:STANDARD
BEGIN:DAYLIGHT
DTSTART:20000326T030000
RRULE:FREQ=YEARLY;BYDAY=-1SU;BYMONTH=3
TZNAME:CEST
TZOFFSETFROM:+0100
TZOFFSETTO:+0200
END:DAYLIGHT
END:VTIMEZONE
BEGIN:VEVENT
UID:pretix-happylab.wien-reparatur-cafe-3028@tickets.happylab.at
DTSTART;TZID=Europe/Vienna:20260427T160000
DTEND;TZID=Europe/Vienna:20260427T183000
DESCRIPTION:Tickets: https://tickets.happylab.at/happylab.wien/reparatur-ca
 fe/3028/\nVeranstalter: Happylab Wien
DTSTAMP:20260421T123119Z
LOCATION:Happylab Wien\, Schönngasse 15-17\, 1020 Wien
SUMMARY:Reparatur Café (Keine Anmeldung nötig!)
END:VEVENT
END:VCALENDAR
