BEGIN:VCALENDAR
VERSION:2.0
PRODID:-//pretix//Happylab_Tickets//
BEGIN:VTIMEZONE
TZID:Europe/Vienna
BEGIN:STANDARD
DTSTART:20001029T040000
RRULE:FREQ=YEARLY;BYDAY=-1SU;BYMONTH=10
TZNAME:CET
TZOFFSETFROM:+0200
TZOFFSETTO:+0100
END:STANDARD
BEGIN:DAYLIGHT
DTSTART:20000326T030000
RRULE:FREQ=YEARLY;BYDAY=-1SU;BYMONTH=3
TZNAME:CEST
TZOFFSETFROM:+0100
TZOFFSETTO:+0200
END:DAYLIGHT
END:VTIMEZONE
BEGIN:VEVENT
UID:pretix-happylab.wien-circular-0@tickets.happylab.at
DTSTART;TZID=Europe/Vienna:20230117T160000
DTEND;TZID=Europe/Vienna:20230117T200000
DESCRIPTION:Tickets: https://tickets.happylab.at/happylab.wien/circular/\nV
 eranstalter: Happylab Wien
DTSTAMP:20260425T204006Z
LOCATION:Happylab Wien\, Schönngasse 15 - 17\, 1020 Wien
SUMMARY:Design of circular mindsets in Fab Labs and makerspaces
END:VEVENT
END:VCALENDAR
